Package: AHMassBank Version: 1.4.0 Command: /Library/Frameworks/R.framework/Resources/bin/R CMD INSTALL AHMassBank StartedAt: 2024-10-16 15:56:50 -0400 (Wed, 16 Oct 2024) EndedAt: 2024-10-16 15:58:16 -0400 (Wed, 16 Oct 2024) EllapsedTime: 86.1 seconds RetCode: 0 Status: OK