Package: AHMassBank Version: 1.4.0 Command: /Library/Frameworks/R.framework/Resources/bin/R CMD build --keep-empty-dirs --no-resave-data AHMassBank StartedAt: 2024-10-16 16:59:27 -0400 (Wed, 16 Oct 2024) EndedAt: 2024-10-16 17:01:37 -0400 (Wed, 16 Oct 2024) EllapsedTime: 129.2 seconds RetCode: 0 Status: OK PackageFile: AHMassBank_1.4.0.tar.gz PackageFileSize: 293.2 KiB