Package: AHMassBank Version: 1.4.0 Command: /Library/Frameworks/R.framework/Resources/bin/R CMD check --install=check:AHMassBank.install-out.txt --library=/Library/Frameworks/R.framework/Resources/library --no-vignettes --timings AHMassBank_1.4.0.tar.gz StartedAt: 2024-06-09 18:41:11 -0400 (Sun, 09 Jun 2024) EndedAt: 2024-06-09 18:45:34 -0400 (Sun, 09 Jun 2024) EllapsedTime: 263.4 seconds RetCode: 0 Status: OK CheckDir: AHMassBank.Rcheck Warnings: 0