Package: AHMassBank Version: 1.4.0 Command: /home/biocbuild/R/R-beta-2024-04-15_r86425/bin/R CMD build --keep-empty-dirs --no-resave-data AHMassBank StartedAt: 2024-05-08 22:15:08 -0000 (Wed, 08 May 2024) EndedAt: 2024-05-08 22:16:25 -0000 (Wed, 08 May 2024) EllapsedTime: 77.1 seconds RetCode: 0 Status: OK PackageFile: AHMassBank_1.4.0.tar.gz PackageFileSize: 357.6 KiB