Package: AHMassBank Version: 1.4.0 Command: /Library/Frameworks/R.framework/Resources/bin/R CMD INSTALL AHMassBank StartedAt: 2024-06-09 16:13:34 -0400 (Sun, 09 Jun 2024) EndedAt: 2024-06-09 16:14:34 -0400 (Sun, 09 Jun 2024) EllapsedTime: 60.6 seconds RetCode: 0 Status: OK