Package: AHMassBank Version: 1.4.0 Command: /Library/Frameworks/R.framework/Resources/bin/R CMD build --keep-empty-dirs --no-resave-data AHMassBank StartedAt: 2024-06-09 17:55:12 -0400 (Sun, 09 Jun 2024) EndedAt: 2024-06-09 17:56:22 -0400 (Sun, 09 Jun 2024) EllapsedTime: 69.9 seconds RetCode: 0 Status: OK PackageFile: AHMassBank_1.4.0.tar.gz PackageFileSize: 293.2 KiB