Package: AHMassBank Version: 1.4.0 Command: /Library/Frameworks/R.framework/Resources/bin/R CMD INSTALL AHMassBank StartedAt: 2024-10-16 17:07:24 -0400 (Wed, 16 Oct 2024) EndedAt: 2024-10-16 17:08:13 -0400 (Wed, 16 Oct 2024) EllapsedTime: 48.7 seconds RetCode: 0 Status: OK