Package: AHMassBank Version: 1.4.0 Command: /Library/Frameworks/R.framework/Resources/bin/R CMD build --keep-empty-dirs --no-resave-data AHMassBank StartedAt: 2024-10-16 19:11:11 -0400 (Wed, 16 Oct 2024) EndedAt: 2024-10-16 19:12:20 -0400 (Wed, 16 Oct 2024) EllapsedTime: 68.7 seconds RetCode: 0 Status: OK PackageFile: AHMassBank_1.4.0.tar.gz PackageFileSize: 293.2 KiB