Package: AHMassBank Version: 1.4.0 Command: rm -rf AHMassBank.buildbin-libdir && mkdir AHMassBank.buildbin-libdir && /Users/biocbuild/BBS/utils/build-universal.sh AHMassBank_1.4.0.tar.gz /Library/Frameworks/R.framework/Resources/bin/R AHMassBank.buildbin-libdir StartedAt: 2024-10-18 17:13:06 -0400 (Fri, 18 Oct 2024) EndedAt: 2024-10-18 17:14:05 -0400 (Fri, 18 Oct 2024) EllapsedTime: 59.0 seconds RetCode: 0 Status: OK PackageFile: AHMassBank_1.4.0.tgz PackageFileSize: 299.9 KiB