Package: AGDEX Version: 1.52.0 Command: E:\biocbuild\bbs-3.19-bioc\R\bin\R.exe CMD INSTALL AGDEX StartedAt: 2024-10-16 16:34:32 -0400 (Wed, 16 Oct 2024) EndedAt: 2024-10-16 16:34:51 -0400 (Wed, 16 Oct 2024) EllapsedTime: 19.5 seconds RetCode: 0 Status: OK