Package: AGDEX Version: 1.52.0 Command: chmod a+r AGDEX -R && F:\biocbuild\bbs-3.19-bioc\R\bin\R.exe CMD build --keep-empty-dirs --no-resave-data AGDEX StartedAt: 2024-06-26 17:01:43 -0400 (Wed, 26 Jun 2024) EndedAt: 2024-06-26 17:02:19 -0400 (Wed, 26 Jun 2024) EllapsedTime: 36.0 seconds RetCode: 0 Status: OK PackageFile: AGDEX_1.52.0.tar.gz PackageFileSize: 487.7 KiB