Package: AGDEX Version: 1.52.0 Command: /home/biocbuild/bbs-3.19-bioc/R/bin/R CMD build --keep-empty-dirs --no-resave-data AGDEX StartedAt: 2024-10-16 16:52:18 -0400 (Wed, 16 Oct 2024) EndedAt: 2024-10-16 16:52:40 -0400 (Wed, 16 Oct 2024) EllapsedTime: 22.0 seconds RetCode: 0 Status: OK PackageFile: AGDEX_1.52.0.tar.gz PackageFileSize: 487.3 KiB