Package: AGDEX Version: 1.52.0 Command: /Library/Frameworks/R.framework/Resources/bin/R CMD build --keep-empty-dirs --no-resave-data AGDEX StartedAt: 2024-06-09 15:48:35 -0400 (Sun, 09 Jun 2024) EndedAt: 2024-06-09 15:49:02 -0400 (Sun, 09 Jun 2024) EllapsedTime: 27.1 seconds RetCode: 0 Status: OK PackageFile: AGDEX_1.52.0.tar.gz PackageFileSize: 487.3 KiB