Package: AGDEX Version: 1.52.0 Command: /Library/Frameworks/R.framework/Resources/bin/R CMD check --install=check:AGDEX.install-out.txt --library=/Library/Frameworks/R.framework/Resources/library --no-vignettes --timings AGDEX_1.52.0.tar.gz StartedAt: 2024-06-10 06:59:00 -0400 (Mon, 10 Jun 2024) EndedAt: 2024-06-10 07:00:46 -0400 (Mon, 10 Jun 2024) EllapsedTime: 106.8 seconds RetCode: 0 Status: OK CheckDir: AGDEX.Rcheck Warnings: 0