Package: AGDEX Version: 1.52.0 Command: /Library/Frameworks/R.framework/Resources/bin/R CMD INSTALL AGDEX StartedAt: 2024-10-16 16:52:59 -0400 (Wed, 16 Oct 2024) EndedAt: 2024-10-16 16:53:18 -0400 (Wed, 16 Oct 2024) EllapsedTime: 18.4 seconds RetCode: 0 Status: OK