Package: AGDEX Version: 1.52.0 Command: rm -rf AGDEX.buildbin-libdir && mkdir AGDEX.buildbin-libdir && /Users/biocbuild/BBS/utils/build-universal.sh AGDEX_1.52.0.tar.gz /Library/Frameworks/R.framework/Resources/bin/R AGDEX.buildbin-libdir StartedAt: 2024-10-18 17:12:41 -0400 (Fri, 18 Oct 2024) EndedAt: 2024-10-18 17:13:02 -0400 (Fri, 18 Oct 2024) EllapsedTime: 21.5 seconds RetCode: 0 Status: OK PackageFile: AGDEX_1.52.0.tgz PackageFileSize: 558.6 KiB