Package: ADImpute Version: 1.14.0 Command: chmod a+r ADImpute -R && F:\biocbuild\bbs-3.19-bioc\R\bin\R.exe CMD build --keep-empty-dirs --no-resave-data ADImpute StartedAt: 2024-06-26 17:00:52 -0400 (Wed, 26 Jun 2024) EndedAt: 2024-06-26 17:01:34 -0400 (Wed, 26 Jun 2024) EllapsedTime: 41.6 seconds RetCode: 0 Status: OK PackageFile: ADImpute_1.14.0.tar.gz PackageFileSize: 2.117 MiB