Package: ADImpute Version: 1.14.0 Command: /home/biocbuild/bbs-3.19-bioc/R/bin/R CMD check --install=check:ADImpute.install-out.txt --library=/home/biocbuild/bbs-3.19-bioc/R/site-library --timings ADImpute_1.14.0.tar.gz StartedAt: 2024-10-16 21:30:24 -0400 (Wed, 16 Oct 2024) EndedAt: 2024-10-16 21:32:37 -0400 (Wed, 16 Oct 2024) EllapsedTime: 132.4 seconds RetCode: 0 Status: WARNINGS CheckDir: ADImpute.Rcheck Warnings: 1