Package: ADImpute Version: 1.14.0 Command: /home/biocbuild/bbs-3.19-bioc/R/bin/R CMD build --keep-empty-dirs --no-resave-data ADImpute StartedAt: 2024-10-16 16:51:43 -0400 (Wed, 16 Oct 2024) EndedAt: 2024-10-16 16:52:11 -0400 (Wed, 16 Oct 2024) EllapsedTime: 27.1 seconds RetCode: 0 Status: OK PackageFile: ADImpute_1.14.0.tar.gz PackageFileSize: 2.117 MiB