Package: ADImpute Version: 1.14.0 Command: /Library/Frameworks/R.framework/Resources/bin/R CMD build --keep-empty-dirs --no-resave-data ADImpute StartedAt: 2024-10-16 16:58:27 -0400 (Wed, 16 Oct 2024) EndedAt: 2024-10-16 16:59:27 -0400 (Wed, 16 Oct 2024) EllapsedTime: 60.1 seconds RetCode: 0 Status: OK PackageFile: ADImpute_1.14.0.tar.gz PackageFileSize: 2.117 MiB