Package: ADAMgui Version: 1.20.0 Command: /Library/Frameworks/R.framework/Resources/bin/R CMD build --keep-empty-dirs --no-resave-data ADAMgui StartedAt: 2024-10-16 19:07:35 -0400 (Wed, 16 Oct 2024) EndedAt: 2024-10-16 19:08:24 -0400 (Wed, 16 Oct 2024) EllapsedTime: 49.2 seconds RetCode: 0 Status: OK PackageFile: ADAMgui_1.20.0.tar.gz PackageFileSize: 1.745 MiB