Package: ADAMgui Version: 1.20.0 Command: rm -rf ADAMgui.buildbin-libdir && mkdir ADAMgui.buildbin-libdir && /Users/biocbuild/BBS/utils/build-universal.sh ADAMgui_1.20.0.tar.gz /Library/Frameworks/R.framework/Resources/bin/R ADAMgui.buildbin-libdir StartedAt: 2024-10-18 17:11:28 -0400 (Fri, 18 Oct 2024) EndedAt: 2024-10-18 17:12:10 -0400 (Fri, 18 Oct 2024) EllapsedTime: 42.0 seconds RetCode: 0 Status: OK PackageFile: ADAMgui_1.20.0.tgz PackageFileSize: 917.6 KiB