Package: ACME Version: 2.60.0 Command: rm -rf ACME.buildbin-libdir && mkdir ACME.buildbin-libdir && E:\biocbuild\bbs-3.19-bioc\R\bin\R.exe CMD INSTALL --build --library=ACME.buildbin-libdir ACME_2.60.0.tar.gz StartedAt: 2024-10-17 07:17:57 -0400 (Thu, 17 Oct 2024) EndedAt: 2024-10-17 07:18:30 -0400 (Thu, 17 Oct 2024) EllapsedTime: 32.7 seconds RetCode: 0 Status: OK PackageFile: ACME_2.60.0.zip PackageFileSize: 10.01 MiB