Package: ACME Version: 2.60.0 Command: /home/biocbuild/bbs-3.19-bioc/R/bin/R CMD build --keep-empty-dirs --no-resave-data ACME StartedAt: 2024-10-16 16:51:39 -0400 (Wed, 16 Oct 2024) EndedAt: 2024-10-16 16:52:03 -0400 (Wed, 16 Oct 2024) EllapsedTime: 23.0 seconds RetCode: 0 Status: OK PackageFile: ACME_2.60.0.tar.gz PackageFileSize: 9.795 MiB