Package: ACE Version: 1.22.0 Command: rm -rf ACE.buildbin-libdir && mkdir ACE.buildbin-libdir && F:\biocbuild\bbs-3.19-bioc\R\bin\R.exe CMD INSTALL --build --library=ACE.buildbin-libdir ACE_1.22.0.tar.gz StartedAt: 2024-06-27 07:47:59 -0400 (Thu, 27 Jun 2024) EndedAt: 2024-06-27 07:48:46 -0400 (Thu, 27 Jun 2024) EllapsedTime: 46.8 seconds RetCode: 0 Status: OK PackageFile: ACE_1.22.0.zip PackageFileSize: 993.2 KiB