Package: ACE Version: 1.22.0 Command: /home/biocbuild/R/R-beta-2024-04-15_r86425/bin/R CMD check --install=check:ACE.install-out.txt --library=/home/biocbuild/R/R-beta-2024-04-15_r86425/site-library --no-vignettes --timings ACE_1.22.0.tar.gz StartedAt: 2024-05-09 04:37:13 -0000 (Thu, 09 May 2024) EndedAt: 2024-05-09 04:40:30 -0000 (Thu, 09 May 2024) EllapsedTime: 196.5 seconds RetCode: 0 Status: OK CheckDir: ACE.Rcheck Warnings: 0