Package: ACE Version: 1.22.0 Command: /Library/Frameworks/R.framework/Resources/bin/R CMD check --install=check:ACE.install-out.txt --library=/Library/Frameworks/R.framework/Resources/library --no-vignettes --timings ACE_1.22.0.tar.gz StartedAt: 2024-10-17 11:44:57 -0400 (Thu, 17 Oct 2024) EndedAt: 2024-10-17 11:47:51 -0400 (Thu, 17 Oct 2024) EllapsedTime: 174.0 seconds RetCode: 0 Status: OK CheckDir: ACE.Rcheck Warnings: 0