Package: ACE Version: 1.22.0 Command: rm -rf ACE.buildbin-libdir && mkdir ACE.buildbin-libdir && /Users/biocbuild/BBS/utils/build-universal.sh ACE_1.22.0.tar.gz /Library/Frameworks/R.framework/Resources/bin/R ACE.buildbin-libdir StartedAt: 2024-10-18 17:11:15 -0400 (Fri, 18 Oct 2024) EndedAt: 2024-10-18 17:11:43 -0400 (Fri, 18 Oct 2024) EllapsedTime: 28.2 seconds RetCode: 0 Status: OK PackageFile: ACE_1.22.0.tgz PackageFileSize: 2.79 MiB