Package: ABarray Version: 1.72.0 Command: rm -rf ABarray.buildbin-libdir && mkdir ABarray.buildbin-libdir && E:\biocbuild\bbs-3.19-bioc\R\bin\R.exe CMD INSTALL --build --library=ABarray.buildbin-libdir ABarray_1.72.0.tar.gz StartedAt: 2024-10-17 07:17:57 -0400 (Thu, 17 Oct 2024) EndedAt: 2024-10-17 07:18:25 -0400 (Thu, 17 Oct 2024) EllapsedTime: 28.3 seconds RetCode: 0 Status: OK PackageFile: ABarray_1.72.0.zip PackageFileSize: 512.4 KiB