Package: ABarray Version: 1.72.0 Command: /home/biocbuild/bbs-3.19-bioc/R/bin/R CMD INSTALL ABarray StartedAt: 2024-10-16 16:40:16 -0400 (Wed, 16 Oct 2024) EndedAt: 2024-10-16 16:40:25 -0400 (Wed, 16 Oct 2024) EllapsedTime: 8.5 seconds RetCode: 0 Status: OK