Package: ABarray Version: 1.72.0 Command: /home/biocbuild/bbs-3.19-bioc/R/bin/R CMD check --install=check:ABarray.install-out.txt --library=/home/biocbuild/bbs-3.19-bioc/R/site-library --timings ABarray_1.72.0.tar.gz StartedAt: 2024-10-16 21:30:24 -0400 (Wed, 16 Oct 2024) EndedAt: 2024-10-16 21:31:21 -0400 (Wed, 16 Oct 2024) EllapsedTime: 56.2 seconds RetCode: 0 Status: OK CheckDir: ABarray.Rcheck Warnings: 0