Package: ABarray Version: 1.72.0 Command: rm -rf ABarray.buildbin-libdir && mkdir ABarray.buildbin-libdir && /Users/biocbuild/BBS/utils/build-universal.sh ABarray_1.72.0.tar.gz /Library/Frameworks/R.framework/Resources/bin/R ABarray.buildbin-libdir StartedAt: 2024-10-17 15:35:49 -0400 (Thu, 17 Oct 2024) EndedAt: 2024-10-17 15:36:17 -0400 (Thu, 17 Oct 2024) EllapsedTime: 28.4 seconds RetCode: 0 Status: OK PackageFile: ABarray_1.72.0.tgz PackageFileSize: 746.3 KiB