Package: ABarray Version: 1.72.0 Command: /Library/Frameworks/R.framework/Resources/bin/R CMD build --keep-empty-dirs --no-resave-data ABarray StartedAt: 2024-06-09 15:48:22 -0400 (Sun, 09 Jun 2024) EndedAt: 2024-06-09 15:48:45 -0400 (Sun, 09 Jun 2024) EllapsedTime: 23.8 seconds RetCode: 0 Status: OK PackageFile: ABarray_1.72.0.tar.gz PackageFileSize: 684.7 KiB