Package: ABarray Version: 1.72.0 Command: /home/biocbuild/R/R-beta-2024-04-15_r86425/bin/R CMD build --keep-empty-dirs --no-resave-data ABarray StartedAt: 2024-05-08 22:13:54 -0000 (Wed, 08 May 2024) EndedAt: 2024-05-08 22:14:09 -0000 (Wed, 08 May 2024) EllapsedTime: 15.0 seconds RetCode: 0 Status: OK PackageFile: ABarray_1.72.0.tar.gz PackageFileSize: 667 KiB