Package: ABarray Version: 1.72.0 Command: /Library/Frameworks/R.framework/Resources/bin/R CMD INSTALL ABarray StartedAt: 2024-06-09 17:25:12 -0400 (Sun, 09 Jun 2024) EndedAt: 2024-06-09 17:26:07 -0400 (Sun, 09 Jun 2024) EllapsedTime: 54.9 seconds RetCode: 0 Status: OK