Package: ABarray Version: 1.72.0 Command: rm -rf ABarray.buildbin-libdir && mkdir ABarray.buildbin-libdir && /Users/biocbuild/BBS/utils/build-universal.sh ABarray_1.72.0.tar.gz /Library/Frameworks/R.framework/Resources/bin/R ABarray.buildbin-libdir StartedAt: 2024-06-11 10:02:36 -0400 (Tue, 11 Jun 2024) EndedAt: 2024-06-11 10:05:04 -0400 (Tue, 11 Jun 2024) EllapsedTime: 147.9 seconds RetCode: 0 Status: OK PackageFile: ABarray_1.72.0.tgz PackageFileSize: 746.1 KiB