Package: ABarray Version: 1.72.0 Command: /Library/Frameworks/R.framework/Resources/bin/R CMD check --install=check:ABarray.install-out.txt --library=/Library/Frameworks/R.framework/Resources/library --no-vignettes --timings ABarray_1.72.0.tar.gz StartedAt: 2024-10-17 11:43:49 -0400 (Thu, 17 Oct 2024) EndedAt: 2024-10-17 11:45:04 -0400 (Thu, 17 Oct 2024) EllapsedTime: 74.5 seconds RetCode: 0 Status: OK CheckDir: ABarray.Rcheck Warnings: 0