Package: ABSSeq Version: 1.58.0 Command: /home/biocbuild/bbs-3.19-bioc/R/bin/R CMD check --install=check:ABSSeq.install-out.txt --library=/home/biocbuild/bbs-3.19-bioc/R/site-library --timings ABSSeq_1.58.0.tar.gz StartedAt: 2024-10-16 21:30:24 -0400 (Wed, 16 Oct 2024) EndedAt: 2024-10-16 21:33:02 -0400 (Wed, 16 Oct 2024) EllapsedTime: 157.4 seconds RetCode: 0 Status: OK CheckDir: ABSSeq.Rcheck Warnings: 0