Package: ABSSeq Version: 1.58.0 Command: /home/biocbuild/bbs-3.19-bioc/R/bin/R CMD build --keep-empty-dirs --no-resave-data ABSSeq StartedAt: 2024-10-16 16:51:39 -0400 (Wed, 16 Oct 2024) EndedAt: 2024-10-16 16:52:46 -0400 (Wed, 16 Oct 2024) EllapsedTime: 66.2 seconds RetCode: 0 Status: OK PackageFile: ABSSeq_1.58.0.tar.gz PackageFileSize: 994.2 KiB