Package: ABSSeq Version: 1.58.0 Command: /Library/Frameworks/R.framework/Resources/bin/R CMD build --keep-empty-dirs --no-resave-data ABSSeq StartedAt: 2024-10-16 16:58:27 -0400 (Wed, 16 Oct 2024) EndedAt: 2024-10-16 17:01:21 -0400 (Wed, 16 Oct 2024) EllapsedTime: 173.5 seconds RetCode: 0 Status: OK PackageFile: ABSSeq_1.58.0.tar.gz PackageFileSize: 1.073 MiB