Package: ABSSeq Version: 1.58.0 Command: rm -rf ABSSeq.buildbin-libdir && mkdir ABSSeq.buildbin-libdir && /Users/biocbuild/BBS/utils/build-universal.sh ABSSeq_1.58.0.tar.gz /Library/Frameworks/R.framework/Resources/bin/R ABSSeq.buildbin-libdir StartedAt: 2024-10-17 15:35:49 -0400 (Thu, 17 Oct 2024) EndedAt: 2024-10-17 15:36:04 -0400 (Thu, 17 Oct 2024) EllapsedTime: 15.3 seconds RetCode: 0 Status: OK PackageFile: ABSSeq_1.58.0.tgz PackageFileSize: 1.316 MiB