Package: ABSSeq Version: 1.58.0 Command: rm -rf ABSSeq.buildbin-libdir && mkdir ABSSeq.buildbin-libdir && /Users/biocbuild/BBS/utils/build-universal.sh ABSSeq_1.58.0.tar.gz /Library/Frameworks/R.framework/Resources/bin/R ABSSeq.buildbin-libdir StartedAt: 2024-06-10 00:05:56 -0400 (Mon, 10 Jun 2024) EndedAt: 2024-06-10 00:06:08 -0400 (Mon, 10 Jun 2024) EllapsedTime: 11.5 seconds RetCode: 0 Status: OK PackageFile: ABSSeq_1.58.0.tgz PackageFileSize: 1.315 MiB