Package: ABSSeq Version: 1.58.0 Command: /home/biocbuild/R/R-beta-2024-04-15_r86425/bin/R CMD build --keep-empty-dirs --no-resave-data ABSSeq StartedAt: 2024-05-08 22:13:54 -0000 (Wed, 08 May 2024) EndedAt: 2024-05-08 22:15:51 -0000 (Wed, 08 May 2024) EllapsedTime: 116.2 seconds RetCode: 0 Status: OK PackageFile: ABSSeq_1.58.0.tar.gz PackageFileSize: 1.067 MiB