Package: spicyWorkflow Version: 1.2.1 Command: chmod a+r spicyWorkflow -R && F:\biocbuild\bbs-3.18-bioc\R\bin\R.exe CMD build --keep-empty-dirs --no-resave-data spicyWorkflow StartedAt: 2024-04-16 11:12:57 -0400 (Tue, 16 Apr 2024) EndedAt: 2024-04-16 11:20:05 -0400 (Tue, 16 Apr 2024) EllapsedTime: 428.5 seconds RetCode: 1 Status: ERROR PackageFile: None PackageFileSize: NA