Package: spicyWorkflow Version: 1.2.1 Command: /Library/Frameworks/R.framework/Resources/bin/R CMD INSTALL spicyWorkflow StartedAt: 2024-03-01 11:00:10 -0500 (Fri, 01 Mar 2024) EndedAt: 2024-03-01 11:00:18 -0500 (Fri, 01 Mar 2024) EllapsedTime: 8.7 seconds RetCode: 0 Status: OK