Package: sequencing Version: 1.26.0 Command: chmod a+r sequencing -R && F:\biocbuild\bbs-3.18-bioc\R\bin\R.exe CMD build --keep-empty-dirs --no-resave-data sequencing StartedAt: 2024-04-16 11:11:28 -0400 (Tue, 16 Apr 2024) EndedAt: 2024-04-16 11:12:53 -0400 (Tue, 16 Apr 2024) EllapsedTime: 85.9 seconds RetCode: 0 Status: OK PackageFile: sequencing_1.26.0.tar.gz PackageFileSize: 403.9 KiB