Package: rnaseqGene Version: 1.26.0 Command: /home/biocbuild/bbs-3.18-bioc/R/bin/R CMD INSTALL rnaseqGene StartedAt: 2024-04-16 11:00:10 -0400 (Tue, 16 Apr 2024) EndedAt: 2024-04-16 11:01:01 -0400 (Tue, 16 Apr 2024) EllapsedTime: 51.1 seconds RetCode: 0 Status: OK