Package: rnaseqGene Version: 1.26.0 Command: /home/biocbuild/bbs-3.18-bioc/R/bin/R CMD build --keep-empty-dirs --no-resave-data rnaseqGene StartedAt: 2024-04-16 11:03:07 -0400 (Tue, 16 Apr 2024) EndedAt: 2024-04-16 11:07:01 -0400 (Tue, 16 Apr 2024) EllapsedTime: 233.6 seconds RetCode: 0 Status: OK PackageFile: rnaseqGene_1.26.0.tar.gz PackageFileSize: 1.235 MiB