Package: recountWorkflow Version: 1.26.0 Command: /Library/Frameworks/R.framework/Resources/bin/R CMD INSTALL recountWorkflow StartedAt: 2024-03-01 11:00:18 -0500 (Fri, 01 Mar 2024) EndedAt: 2024-03-01 11:01:10 -0500 (Fri, 01 Mar 2024) EllapsedTime: 52.6 seconds RetCode: 0 Status: OK