Package: cytofWorkflow Version: 1.26.1 Command: F:\biocbuild\bbs-3.18-bioc\R\bin\R.exe CMD INSTALL cytofWorkflow StartedAt: 2024-04-16 11:01:22 -0400 (Tue, 16 Apr 2024) EndedAt: 2024-04-16 11:02:11 -0400 (Tue, 16 Apr 2024) EllapsedTime: 48.3 seconds RetCode: 0 Status: OK